BEGIN:VCALENDAR
VERSION:2.0
PRODID:-//eventon.com NONSGML v1.0//EN
CALSCALE:GREGORIAN
METHOD:PUBLISH
BEGIN:VEVENT
UID:69e5ea9dec847
DTSTAMP:20260420T085805Z
DTSTART:20260425T140000Z
DTEND:20260425T180000Z
LOCATION:Central Assembly of God 6767 20th Street\,  Vero Beach\,  FL 32966
SUMMARY:Spring Car Show and BBQ Fest (Rescheduled to April 25th)
DESCRIPTION:Calling all car enthusiasts! Also all business vendors and BBQ 
 food trucks and businesses! Join us for Christian FM’s Spring Car Show an
 d BBQ Fest on Saturday\,  April 25th from 10 AM to 2 PM. Come show off your
  car\,  business or BBQ. There will be awards for best in[..]\nhttps://chri
 stianfm.com/events/spring-car-show-and-bbq-fest/
URL:https://christianfm.com/events/spring-car-show-and-bbq-fest/
END:VEVENT
END:VCALENDAR