BEGIN:VCALENDAR
VERSION:2.0
PRODID:-//eventon.com NONSGML v1.0//EN
CALSCALE:GREGORIAN
METHOD:PUBLISH
BEGIN:VEVENT
UID:69e907c060239
DTSTAMP:20260422T173912Z
DTSTART:20250906T130000Z
DTEND:20250906T180000Z
LOCATION:
SUMMARY:Free Mobile Dental Care in Port St. Lucie\,  FL
DESCRIPTION:Attention Port St. Lucie! A free Mobile Dental Bus is coming to
  our community to serve those in need. We’re offering&nbsp;free dental cl
 eanings\,  fillings\,  and extractions&nbsp;for underserved residents. 18 y
 ears and older.&nbsp; Screening Day is&nbsp;Saturday\,  September 6th\,  fr
 om 9 AM to 2 PM&nbsp;at&nbsp;Central Baptist Church in Port St. Lucie. If[.
 .]\nhttps://christianfm.com/events/free-mobile-dental-care-in-port-st-lucie
 -fl/
URL:https://christianfm.com/events/free-mobile-dental-care-in-port-st-lucie-fl/
END:VEVENT
END:VCALENDAR