BEGIN:VCALENDAR
VERSION:2.0
PRODID:-//eventon.com NONSGML v1.0//EN
CALSCALE:GREGORIAN
METHOD:PUBLISH
BEGIN:VEVENT
UID:69eba41fe0992
DTSTAMP:20260424T171055Z
DTSTART:20250907T203000Z
DTEND:20250907T220000Z
LOCATION:
SUMMARY:Revamp Church (Church Launch)
DESCRIPTION:Hello!&nbsp; My name is Pastor Chino &amp; Marsha Martinez and 
 we are launching a new church in port saint lucie. Below are the details&nb
 sp; Revamp Church&nbsp; 10011 S U.S. Hwy 1\,  Port St. Lucie\,  FL 34952 4:
 30pm-6:00pm&nbsp; Worship\,  Preaching\,  Face painting\,  Photobooth\,  an
 d More!&nbsp; www.revampchurch.net&nbsp; If anyone is interested &#8211;[..
 ]\nhttps://christianfm.com/events/revamp-church-church-launch/
URL:https://christianfm.com/events/revamp-church-church-launch/
END:VEVENT
END:VCALENDAR