BEGIN:VCALENDAR
VERSION:2.0
PRODID:-//eventon.com NONSGML v1.0//EN
CALSCALE:GREGORIAN
METHOD:PUBLISH
BEGIN:VEVENT
UID:69ea41bcd1019
DTSTAMP:20260423T155852Z
DTSTART:20241015T150000Z
DTEND:20241031T220000Z
LOCATION:Lakewood Park Church 5405 Turnpike Feeder Rd
SUMMARY:Lakewood Park Pumpkin Patch
DESCRIPTION:Join us at Lakewood Park Church. Celebrate the beauty of fall w
 ith us at our pumpkin patch! Take part in our photo area\,  test your skill
 s in our left-turning hay maze\,  and discover our vast array of pumpkins w
 hile your little ones enjoy our engaging games. BeLEAF us\,  our adorable[.
 .]\nhttps://christianfm.com/events/lakewood-park-pumpkin-patch/
URL:https://christianfm.com/events/lakewood-park-pumpkin-patch/
END:VEVENT
END:VCALENDAR